BEGIN:VCALENDAR
VERSION:2.0
PRODID:-//George Squash Club - ECPv6.14.2//NONSGML v1.0//EN
CALSCALE:GREGORIAN
METHOD:PUBLISH
X-WR-CALNAME:George Squash Club
X-ORIGINAL-URL:https://georgesquash.co.za
X-WR-CALDESC:Events for George Squash Club
REFRESH-INTERVAL;VALUE=DURATION:PT1H
X-Robots-Tag:noindex
X-PUBLISHED-TTL:PT1H
BEGIN:VTIMEZONE
TZID:Europe/Helsinki
BEGIN:DAYLIGHT
TZOFFSETFROM:+0200
TZOFFSETTO:+0300
TZNAME:EEST
DTSTART:20240331T010000
END:DAYLIGHT
BEGIN:STANDARD
TZOFFSETFROM:+0300
TZOFFSETTO:+0200
TZNAME:EET
DTSTART:20241027T010000
END:STANDARD
BEGIN:DAYLIGHT
TZOFFSETFROM:+0200
TZOFFSETTO:+0300
TZNAME:EEST
DTSTART:20250330T010000
END:DAYLIGHT
BEGIN:STANDARD
TZOFFSETFROM:+0300
TZOFFSETTO:+0200
TZNAME:EET
DTSTART:20251026T010000
END:STANDARD
END:VTIMEZONE
BEGIN:VEVENT
DTSTART;TZID=Europe/Helsinki:20250614T090000
DTEND;TZID=Europe/Helsinki:20250614T110000
DTSTAMP:20260421T140841
CREATED:20250405T145650Z
LAST-MODIFIED:20250405T145650Z
UID:26129-1749891600-1749898800@georgesquash.co.za
SUMMARY:Saturday Squash
DESCRIPTION:
URL:https://georgesquash.co.za/event/saturday-squash-11/
LOCATION:George Squash Club\, 1936 C.J. Langenhoven Street\, George\, Western Cape\, 6529\, South Africa
END:VEVENT
BEGIN:VEVENT
DTSTART;TZID=Europe/Helsinki:20250613T170000
DTEND;TZID=Europe/Helsinki:20250613T190000
DTSTAMP:20260421T140841
CREATED:20250405T150527Z
LAST-MODIFIED:20250405T150527Z
UID:26153-1749834000-1749841200@georgesquash.co.za
SUMMARY:Club Night
DESCRIPTION:Every Friday 5pm -7pm. All members and members guests are welcome
URL:https://georgesquash.co.za/event/club-night-10/
LOCATION:George Squash Club\, 1936 C.J. Langenhoven Street\, George\, Western Cape\, 6529\, South Africa
END:VEVENT
BEGIN:VEVENT
DTSTART;TZID=Europe/Helsinki:20250607T090000
DTEND;TZID=Europe/Helsinki:20250607T110000
DTSTAMP:20260421T140841
CREATED:20250405T145625Z
LAST-MODIFIED:20250405T145625Z
UID:26127-1749286800-1749294000@georgesquash.co.za
SUMMARY:Saturday Squash
DESCRIPTION:
URL:https://georgesquash.co.za/event/saturday-squash-10/
LOCATION:George Squash Club\, 1936 C.J. Langenhoven Street\, George\, Western Cape\, 6529\, South Africa
END:VEVENT
BEGIN:VEVENT
DTSTART;TZID=Europe/Helsinki:20250606T170000
DTEND;TZID=Europe/Helsinki:20250606T190000
DTSTAMP:20260421T140841
CREATED:20250405T150458Z
LAST-MODIFIED:20250405T150458Z
UID:26151-1749229200-1749236400@georgesquash.co.za
SUMMARY:Club Night
DESCRIPTION:Every Friday 5pm -7pm. All members and members guests are welcome
URL:https://georgesquash.co.za/event/club-night-9/
LOCATION:George Squash Club\, 1936 C.J. Langenhoven Street\, George\, Western Cape\, 6529\, South Africa
END:VEVENT
BEGIN:VEVENT
DTSTART;VALUE=DATE:20250606
DTEND;VALUE=DATE:20250609
DTSTAMP:20260421T140841
CREATED:20250204T190628Z
LAST-MODIFIED:20250204T190628Z
UID:25934-1749168000-1749427199@georgesquash.co.za
SUMMARY:SA Nationals (Regionals)
DESCRIPTION:
URL:https://georgesquash.co.za/event/sa-nationals-regionals/
LOCATION:Eden\, Western Cape\, South Africa
END:VEVENT
BEGIN:VEVENT
DTSTART;TZID=Europe/Helsinki:20250531T090000
DTEND;TZID=Europe/Helsinki:20250531T110000
DTSTAMP:20260421T140841
CREATED:20250405T145518Z
LAST-MODIFIED:20250405T145518Z
UID:26125-1748682000-1748689200@georgesquash.co.za
SUMMARY:Saturday Squash
DESCRIPTION:
URL:https://georgesquash.co.za/event/saturday-squash-9/
LOCATION:George Squash Club\, 1936 C.J. Langenhoven Street\, George\, Western Cape\, 6529\, South Africa
END:VEVENT
BEGIN:VEVENT
DTSTART;TZID=Europe/Helsinki:20250530T170000
DTEND;TZID=Europe/Helsinki:20250530T190000
DTSTAMP:20260421T140841
CREATED:20250405T150423Z
LAST-MODIFIED:20250405T150423Z
UID:26149-1748624400-1748631600@georgesquash.co.za
SUMMARY:Club Night
DESCRIPTION:Every Friday 5pm -7pm. All members and members guests are welcome
URL:https://georgesquash.co.za/event/club-night-8/
LOCATION:George Squash Club\, 1936 C.J. Langenhoven Street\, George\, Western Cape\, 6529\, South Africa
END:VEVENT
BEGIN:VEVENT
DTSTART;TZID=Europe/Helsinki:20250524T090000
DTEND;TZID=Europe/Helsinki:20250524T110000
DTSTAMP:20260421T140841
CREATED:20250405T145448Z
LAST-MODIFIED:20250405T145448Z
UID:26123-1748077200-1748084400@georgesquash.co.za
SUMMARY:Saturday Squash
DESCRIPTION:
URL:https://georgesquash.co.za/event/saturday-squash-8/
LOCATION:George Squash Club\, 1936 C.J. Langenhoven Street\, George\, Western Cape\, 6529\, South Africa
END:VEVENT
BEGIN:VEVENT
DTSTART;TZID=Europe/Helsinki:20250523T170000
DTEND;TZID=Europe/Helsinki:20250523T190000
DTSTAMP:20260421T140841
CREATED:20250405T150326Z
LAST-MODIFIED:20250405T150326Z
UID:26147-1748019600-1748026800@georgesquash.co.za
SUMMARY:Club Night
DESCRIPTION:Every Friday 5pm -7pm. All members and members guests are welcome
URL:https://georgesquash.co.za/event/club-night-7/
LOCATION:George Squash Club\, 1936 C.J. Langenhoven Street\, George\, Western Cape\, 6529\, South Africa
END:VEVENT
BEGIN:VEVENT
DTSTART;VALUE=DATE:20250523
DTEND;VALUE=DATE:20250528
DTSTAMP:20260421T140841
CREATED:20250204T190528Z
LAST-MODIFIED:20250204T190528Z
UID:25931-1747958400-1748390399@georgesquash.co.za
SUMMARY:Masters IPT (Singles)
DESCRIPTION:
URL:https://georgesquash.co.za/event/masters-ipt-singles/
LOCATION:Port Elizabeth\, Eastern Cape\, South Africa
END:VEVENT
BEGIN:VEVENT
DTSTART;VALUE=DATE:20250519
DTEND;VALUE=DATE:20250520
DTSTAMP:20260421T140841
CREATED:20250204T190424Z
LAST-MODIFIED:20250204T190424Z
UID:25929-1747612800-1747699199@georgesquash.co.za
SUMMARY:AGM
DESCRIPTION:
URL:https://georgesquash.co.za/event/agm/
LOCATION:George Squash Club\, 1936 C.J. Langenhoven Street\, George\, Western Cape\, 6529\, South Africa
END:VEVENT
BEGIN:VEVENT
DTSTART;TZID=Europe/Helsinki:20250517T090000
DTEND;TZID=Europe/Helsinki:20250517T110000
DTSTAMP:20260421T140841
CREATED:20250405T145425Z
LAST-MODIFIED:20250405T145425Z
UID:26121-1747472400-1747479600@georgesquash.co.za
SUMMARY:Saturday Squash
DESCRIPTION:
URL:https://georgesquash.co.za/event/saturday-squash-7/
LOCATION:George Squash Club\, 1936 C.J. Langenhoven Street\, George\, Western Cape\, 6529\, South Africa
END:VEVENT
BEGIN:VEVENT
DTSTART;TZID=Europe/Helsinki:20250516T170000
DTEND;TZID=Europe/Helsinki:20250516T190000
DTSTAMP:20260421T140841
CREATED:20250405T150250Z
LAST-MODIFIED:20250405T150250Z
UID:26145-1747414800-1747422000@georgesquash.co.za
SUMMARY:Club Night
DESCRIPTION:Every Friday 5pm -7pm. All members and members guests are welcome
URL:https://georgesquash.co.za/event/club-night-6/
LOCATION:George Squash Club\, 1936 C.J. Langenhoven Street\, George\, Western Cape\, 6529\, South Africa
END:VEVENT
BEGIN:VEVENT
DTSTART;TZID=Europe/Helsinki:20250510T090000
DTEND;TZID=Europe/Helsinki:20250510T110000
DTSTAMP:20260421T140841
CREATED:20250405T145402Z
LAST-MODIFIED:20250405T145402Z
UID:26119-1746867600-1746874800@georgesquash.co.za
SUMMARY:Saturday Squash
DESCRIPTION:
URL:https://georgesquash.co.za/event/saturday-squash-6/
LOCATION:George Squash Club\, 1936 C.J. Langenhoven Street\, George\, Western Cape\, 6529\, South Africa
END:VEVENT
BEGIN:VEVENT
DTSTART;TZID=Europe/Helsinki:20250509T170000
DTEND;TZID=Europe/Helsinki:20250509T190000
DTSTAMP:20260421T140841
CREATED:20250405T150221Z
LAST-MODIFIED:20250405T150221Z
UID:26143-1746810000-1746817200@georgesquash.co.za
SUMMARY:Club Night
DESCRIPTION:Every Friday 5pm -7pm. All members and members guests are welcome
URL:https://georgesquash.co.za/event/club-night-5/
LOCATION:George Squash Club\, 1936 C.J. Langenhoven Street\, George\, Western Cape\, 6529\, South Africa
END:VEVENT
BEGIN:VEVENT
DTSTART;VALUE=DATE:20250506
DTEND;VALUE=DATE:20250625
DTSTAMP:20260421T140841
CREATED:20250204T190340Z
LAST-MODIFIED:20250204T190340Z
UID:25927-1746489600-1750809599@georgesquash.co.za
SUMMARY:Box League (Tuesdays)
DESCRIPTION:
URL:https://georgesquash.co.za/event/box-league-tuesdays-2/
LOCATION:George Squash Club\, 1936 C.J. Langenhoven Street\, George\, Western Cape\, 6529\, South Africa
END:VEVENT
BEGIN:VEVENT
DTSTART;TZID=Europe/Helsinki:20250503T090000
DTEND;TZID=Europe/Helsinki:20250503T110000
DTSTAMP:20260421T140841
CREATED:20250405T145340Z
LAST-MODIFIED:20250405T145340Z
UID:26117-1746262800-1746270000@georgesquash.co.za
SUMMARY:Saturday Squash
DESCRIPTION:
URL:https://georgesquash.co.za/event/saturday-squash-5/
LOCATION:George Squash Club\, 1936 C.J. Langenhoven Street\, George\, Western Cape\, 6529\, South Africa
END:VEVENT
BEGIN:VEVENT
DTSTART;TZID=Europe/Helsinki:20250502T170000
DTEND;TZID=Europe/Helsinki:20250502T190000
DTSTAMP:20260421T140841
CREATED:20250405T150156Z
LAST-MODIFIED:20250405T150156Z
UID:26141-1746205200-1746212400@georgesquash.co.za
SUMMARY:Club Night
DESCRIPTION:Every Friday 5pm -7pm. All members and members guests are welcome
URL:https://georgesquash.co.za/event/club-night-4/
LOCATION:George Squash Club\, 1936 C.J. Langenhoven Street\, George\, Western Cape\, 6529\, South Africa
END:VEVENT
BEGIN:VEVENT
DTSTART;TZID=Europe/Helsinki:20250426T090000
DTEND;TZID=Europe/Helsinki:20250426T110000
DTSTAMP:20260421T140841
CREATED:20250405T145310Z
LAST-MODIFIED:20250405T145310Z
UID:26115-1745658000-1745665200@georgesquash.co.za
SUMMARY:Saturday Squash
DESCRIPTION:
URL:https://georgesquash.co.za/event/saturday-squash-4/
LOCATION:George Squash Club\, 1936 C.J. Langenhoven Street\, George\, Western Cape\, 6529\, South Africa
END:VEVENT
BEGIN:VEVENT
DTSTART;TZID=Europe/Helsinki:20250425T170000
DTEND;TZID=Europe/Helsinki:20250425T190000
DTSTAMP:20260421T140841
CREATED:20250405T150120Z
LAST-MODIFIED:20250405T150130Z
UID:26139-1745600400-1745607600@georgesquash.co.za
SUMMARY:Club Night
DESCRIPTION:Every Friday 5pm -7pm. All members and members guests are welcome
URL:https://georgesquash.co.za/event/club-night-3/
LOCATION:George Squash Club\, 1936 C.J. Langenhoven Street\, George\, Western Cape\, 6529\, South Africa
END:VEVENT
BEGIN:VEVENT
DTSTART;VALUE=DATE:20250425
DTEND;VALUE=DATE:20250428
DTSTAMP:20260421T140841
CREATED:20250204T190249Z
LAST-MODIFIED:20250204T190249Z
UID:25924-1745539200-1745798399@georgesquash.co.za
SUMMARY:Brotherton Cup
DESCRIPTION:
URL:https://georgesquash.co.za/event/brotherton-cup/
LOCATION:Knysna\, Western Cape\, 6571\, South Africa
END:VEVENT
BEGIN:VEVENT
DTSTART;TZID=Europe/Helsinki:20250419T090000
DTEND;TZID=Europe/Helsinki:20250419T110000
DTSTAMP:20260421T140841
CREATED:20250405T145248Z
LAST-MODIFIED:20250405T145248Z
UID:26113-1745053200-1745060400@georgesquash.co.za
SUMMARY:Saturday Squash
DESCRIPTION:
URL:https://georgesquash.co.za/event/saturday-squash-3/
LOCATION:George Squash Club\, 1936 C.J. Langenhoven Street\, George\, Western Cape\, 6529\, South Africa
END:VEVENT
BEGIN:VEVENT
DTSTART;TZID=Europe/Helsinki:20250418T170000
DTEND;TZID=Europe/Helsinki:20250418T190000
DTSTAMP:20260421T140841
CREATED:20250405T150052Z
LAST-MODIFIED:20250405T150052Z
UID:26137-1744995600-1745002800@georgesquash.co.za
SUMMARY:Club Night
DESCRIPTION:Every Friday 5pm -7pm. All members and members guests are welcome
URL:https://georgesquash.co.za/event/club-night-2/
LOCATION:George Squash Club\, 1936 C.J. Langenhoven Street\, George\, Western Cape\, 6529\, South Africa
END:VEVENT
BEGIN:VEVENT
DTSTART;TZID=Europe/Helsinki:20250412T090000
DTEND;TZID=Europe/Helsinki:20250412T110000
DTSTAMP:20260421T140841
CREATED:20250405T145221Z
LAST-MODIFIED:20250405T145221Z
UID:26111-1744448400-1744455600@georgesquash.co.za
SUMMARY:Saturday Squash
DESCRIPTION:
URL:https://georgesquash.co.za/event/saturday-squash-2/
LOCATION:George Squash Club\, 1936 C.J. Langenhoven Street\, George\, Western Cape\, 6529\, South Africa
END:VEVENT
BEGIN:VEVENT
DTSTART;TZID=Europe/Helsinki:20250411T170000
DTEND;TZID=Europe/Helsinki:20250411T190000
DTSTAMP:20260421T140841
CREATED:20250405T150026Z
LAST-MODIFIED:20250405T150026Z
UID:26135-1744390800-1744398000@georgesquash.co.za
SUMMARY:Club Night
DESCRIPTION:Every Friday 5pm -7pm. All members and members guests are welcome
URL:https://georgesquash.co.za/event/club-night/
LOCATION:George Squash Club\, 1936 C.J. Langenhoven Street\, George\, Western Cape\, 6529\, South Africa
END:VEVENT
BEGIN:VEVENT
DTSTART;TZID=Europe/Helsinki:20250405T090000
DTEND;TZID=Europe/Helsinki:20250405T110000
DTSTAMP:20260421T140841
CREATED:20250405T144809Z
LAST-MODIFIED:20250405T145140Z
UID:26106-1743843600-1743850800@georgesquash.co.za
SUMMARY:Saturday Squash
DESCRIPTION:
URL:https://georgesquash.co.za/event/saturday-squash/
LOCATION:George Squash Club\, 1936 C.J. Langenhoven Street\, George\, Western Cape\, 6529\, South Africa
END:VEVENT
BEGIN:VEVENT
DTSTART;VALUE=DATE:20250313
DTEND;VALUE=DATE:20250317
DTSTAMP:20260421T140841
CREATED:20250204T190039Z
LAST-MODIFIED:20250204T190039Z
UID:25921-1741824000-1742169599@georgesquash.co.za
SUMMARY:SA Nationals (Masters)
DESCRIPTION:
URL:https://georgesquash.co.za/event/sa-nationals-masters/
LOCATION:Parkview\, South Africa
END:VEVENT
BEGIN:VEVENT
DTSTART;VALUE=DATE:20250305
DTEND;VALUE=DATE:20250310
DTSTAMP:20260421T140841
CREATED:20250204T185850Z
LAST-MODIFIED:20250204T185850Z
UID:25919-1741132800-1741564799@georgesquash.co.za
SUMMARY:Eden Championships
DESCRIPTION:
URL:https://georgesquash.co.za/event/eden-championships/
LOCATION:George Squash Club\, 1936 C.J. Langenhoven Street\, George\, Western Cape\, 6529\, South Africa
END:VEVENT
BEGIN:VEVENT
DTSTART;VALUE=DATE:20250211
DTEND;VALUE=DATE:20250326
DTSTAMP:20260421T140841
CREATED:20250204T185759Z
LAST-MODIFIED:20250204T185759Z
UID:25917-1739232000-1742947199@georgesquash.co.za
SUMMARY:Box League (Tuesdays)
DESCRIPTION:
URL:https://georgesquash.co.za/event/box-league-tuesdays/
LOCATION:George Squash Club\, 1936 C.J. Langenhoven Street\, George\, Western Cape\, 6529\, South Africa
END:VEVENT
BEGIN:VEVENT
DTSTART;VALUE=DATE:20241119
DTEND;VALUE=DATE:20241124
DTSTAMP:20260421T140841
CREATED:20241011T180608Z
LAST-MODIFIED:20241014T122412Z
UID:25816-1731974400-1732406399@georgesquash.co.za
SUMMARY:Singles Club Championships 2024
DESCRIPTION:Sign up Here (Members Only)
URL:https://georgesquash.co.za/event/singles-club-championships-2024/
LOCATION:George Squash Club\, 1936 C.J. Langenhoven Street\, George\, Western Cape\, 6529\, South Africa
CATEGORIES:Sports club
ATTACH;FMTTYPE=image/webp:https://georgesquash.co.za/wp-content/uploads/2024/09/DALL·E-2024-09-12-19.44.20-A-close-up-shot-of-squash-equipment-placed-on-a-bright-yellow-background.-The-equipment-includes-a-squash-racket-with-visible-strings-a-black-squash-.webp
END:VEVENT
END:VCALENDAR